BEGIN:VCALENDAR
VERSION:2.0
PRODID:-//Förderverein Forstbotanischer Garten Hann Münden e.V. - ECPv6.15.20//NONSGML v1.0//EN
CALSCALE:GREGORIAN
METHOD:PUBLISH
X-ORIGINAL-URL:https://ffbg.info
X-WR-CALDESC:Veranstaltungen für Förderverein Forstbotanischer Garten Hann Münden e.V.
REFRESH-INTERVAL;VALUE=DURATION:PT1H
X-Robots-Tag:noindex
X-PUBLISHED-TTL:PT1H
BEGIN:VTIMEZONE
TZID:Europe/Berlin
BEGIN:DAYLIGHT
TZOFFSETFROM:+0100
TZOFFSETTO:+0200
TZNAME:CEST
DTSTART:20250330T010000
END:DAYLIGHT
BEGIN:STANDARD
TZOFFSETFROM:+0200
TZOFFSETTO:+0100
TZNAME:CET
DTSTART:20251026T010000
END:STANDARD
BEGIN:DAYLIGHT
TZOFFSETFROM:+0100
TZOFFSETTO:+0200
TZNAME:CEST
DTSTART:20260329T010000
END:DAYLIGHT
BEGIN:STANDARD
TZOFFSETFROM:+0200
TZOFFSETTO:+0100
TZNAME:CET
DTSTART:20261025T010000
END:STANDARD
BEGIN:DAYLIGHT
TZOFFSETFROM:+0100
TZOFFSETTO:+0200
TZNAME:CEST
DTSTART:20270328T010000
END:DAYLIGHT
BEGIN:STANDARD
TZOFFSETFROM:+0200
TZOFFSETTO:+0100
TZNAME:CET
DTSTART:20271031T010000
END:STANDARD
END:VTIMEZONE
BEGIN:VEVENT
DTSTART;TZID=Europe/Berlin:20260211T140000
DTEND;TZID=Europe/Berlin:20260211T160000
DTSTAMP:20260420T185634
CREATED:20250421T063258Z
LAST-MODIFIED:20251215T141624Z
UID:503-1770818400-1770825600@ffbg.info
SUMMARY:Arbeitseinsatz in der Kleingruppe
DESCRIPTION:An jeden zweiten Mittwoch des Monats trifft sich wer Zeit und Lust hat zu einem kurzen Arbeitseinsatz im Forstbotanischen Garten am Haus des Naturparks. Absprachen über Signal oder direkt mit Hartmut Lerner: 0163 1620706. Gerne auch Spaten\, Gartenschere\, Grabgabel…mitbringen. Es sind aber auch genügend Gerätschaften und Handschuhe vorhanden.
URL:https://ffbg.info/termin/arbeitseinsatz-in-der-kleingruppe-2/
CATEGORIES:Termine
END:VEVENT
END:VCALENDAR