BEGIN:VCALENDAR
VERSION:2.0
PRODID:-//Förderverein Forstbotanischer Garten Hann Münden e.V. - ECPv6.15.20//NONSGML v1.0//EN
CALSCALE:GREGORIAN
METHOD:PUBLISH
X-ORIGINAL-URL:https://ffbg.info
X-WR-CALDESC:Veranstaltungen für Förderverein Forstbotanischer Garten Hann Münden e.V.
REFRESH-INTERVAL;VALUE=DURATION:PT1H
X-Robots-Tag:noindex
X-PUBLISHED-TTL:PT1H
BEGIN:VTIMEZONE
TZID:Europe/Berlin
BEGIN:DAYLIGHT
TZOFFSETFROM:+0100
TZOFFSETTO:+0200
TZNAME:CEST
DTSTART:20250330T010000
END:DAYLIGHT
BEGIN:STANDARD
TZOFFSETFROM:+0200
TZOFFSETTO:+0100
TZNAME:CET
DTSTART:20251026T010000
END:STANDARD
BEGIN:DAYLIGHT
TZOFFSETFROM:+0100
TZOFFSETTO:+0200
TZNAME:CEST
DTSTART:20260329T010000
END:DAYLIGHT
BEGIN:STANDARD
TZOFFSETFROM:+0200
TZOFFSETTO:+0100
TZNAME:CET
DTSTART:20261025T010000
END:STANDARD
BEGIN:DAYLIGHT
TZOFFSETFROM:+0100
TZOFFSETTO:+0200
TZNAME:CEST
DTSTART:20270328T010000
END:DAYLIGHT
BEGIN:STANDARD
TZOFFSETFROM:+0200
TZOFFSETTO:+0100
TZNAME:CET
DTSTART:20271031T010000
END:STANDARD
END:VTIMEZONE
BEGIN:VEVENT
DTSTART;TZID=Europe/Berlin:20260304T190000
DTEND;TZID=Europe/Berlin:20260304T203000
DTSTAMP:20260420T185404
CREATED:20250213T161416Z
LAST-MODIFIED:20260107T092521Z
UID:480-1772650800-1772656200@ffbg.info
SUMMARY:Mitgliederversammlung
DESCRIPTION:Die jährliche Mitgliederversammlung findet wieder in der Reformierten Kirche in der Burgstraße statt. Bitte den Eingang vom Inne hof benutzen. \nDer Vorstand berichtet von vergangenen und für 2026 geplanten Aktivitäten in und um den Forstbotanischen Garten herum. \nDie Schatzmeisterin gibt eine Übersicht über die Kassenentwicklung. \nGerne beantworten wir Fragen und nehmen Anregungen entgegen und diskutieren darüber. \nHerzliche Einladung an alle Mitglieder! \n  \n  \n  \n  \n 
URL:https://ffbg.info/termin/mitgliederversammlung/
LOCATION:Reformierte Kirche\, Butgstraße
CATEGORIES:Termine
END:VEVENT
END:VCALENDAR