BEGIN:VCALENDAR
VERSION:2.0
PRODID:-//Förderverein Forstbotanischer Garten Hann Münden e.V. - ECPv6.15.20//NONSGML v1.0//EN
CALSCALE:GREGORIAN
METHOD:PUBLISH
X-WR-CALNAME:Förderverein Forstbotanischer Garten Hann Münden e.V.
X-ORIGINAL-URL:https://ffbg.info
X-WR-CALDESC:Veranstaltungen für Förderverein Forstbotanischer Garten Hann Münden e.V.
REFRESH-INTERVAL;VALUE=DURATION:PT1H
X-Robots-Tag:noindex
X-PUBLISHED-TTL:PT1H
BEGIN:VTIMEZONE
TZID:Europe/Berlin
BEGIN:DAYLIGHT
TZOFFSETFROM:+0100
TZOFFSETTO:+0200
TZNAME:CEST
DTSTART:20250330T010000
END:DAYLIGHT
BEGIN:STANDARD
TZOFFSETFROM:+0200
TZOFFSETTO:+0100
TZNAME:CET
DTSTART:20251026T010000
END:STANDARD
BEGIN:DAYLIGHT
TZOFFSETFROM:+0100
TZOFFSETTO:+0200
TZNAME:CEST
DTSTART:20260329T010000
END:DAYLIGHT
BEGIN:STANDARD
TZOFFSETFROM:+0200
TZOFFSETTO:+0100
TZNAME:CET
DTSTART:20261025T010000
END:STANDARD
BEGIN:DAYLIGHT
TZOFFSETFROM:+0100
TZOFFSETTO:+0200
TZNAME:CEST
DTSTART:20270328T010000
END:DAYLIGHT
BEGIN:STANDARD
TZOFFSETFROM:+0200
TZOFFSETTO:+0100
TZNAME:CET
DTSTART:20271031T010000
END:STANDARD
END:VTIMEZONE
BEGIN:VEVENT
DTSTART;TZID=Europe/Berlin:20260418T090000
DTEND;TZID=Europe/Berlin:20260418T130000
DTSTAMP:20260420T171819
CREATED:20260323T190034Z
LAST-MODIFIED:20260401T170849Z
UID:559-1776502800-1776517200@ffbg.info
SUMMARY:1. großer Frühjahres-Arbeitseinsatz im Forstbotanischen Garten
DESCRIPTION:Herzliche Einladung zu unserem 2. Frühjahrs-Arbeitseinsatz zum Erhalt und zur Verschönerung des FBG. \nMitmachen\, Spaß haben\, neues über die Natur erfahren und Gutes für den Forstbotanischen Garten und seine Besucher tun! \nWir werden schon bearbeitete Bereiche erhaltungspflegen und uns einen neuen Bereich vornehmen. Wildaufwuchs und Brombeeren werden beseitigt und der Efeu im Zaum gehalten. Manche Sträucher brauchen einen Erziehungsschnitt und Aufräumen ist immer notwendig. \nMittlerweile sind wir gerätetechnisch gut ausgestattet\, so dass nur eine robuste Kleidung und Freude am Einsatz mitzubringen sind. \nFür Verpflegung in der Pause ist gesorgt. \nAußerdem gibt es immer eine Menge Informationen durch unseren fachlichen Beirat Volker Meng\, der uns auch ein- und anweist. \nGäste jeden Alters sind herzlich willkommen.
URL:https://ffbg.info/termin/2-grosser-fruehjahres-arbeitseinsatz-im-forstbotanischen-garten/
CATEGORIES:Termine
END:VEVENT
END:VCALENDAR