BEGIN:VCALENDAR
VERSION:2.0
PRODID:-//Förderverein Forstbotanischer Garten Hann Münden e.V. - ECPv6.15.20//NONSGML v1.0//EN
CALSCALE:GREGORIAN
METHOD:PUBLISH
X-WR-CALNAME:Förderverein Forstbotanischer Garten Hann Münden e.V.
X-ORIGINAL-URL:https://ffbg.info
X-WR-CALDESC:Veranstaltungen für Förderverein Forstbotanischer Garten Hann Münden e.V.
REFRESH-INTERVAL;VALUE=DURATION:PT1H
X-Robots-Tag:noindex
X-PUBLISHED-TTL:PT1H
BEGIN:VTIMEZONE
TZID:Europe/Berlin
BEGIN:DAYLIGHT
TZOFFSETFROM:+0100
TZOFFSETTO:+0200
TZNAME:CEST
DTSTART:20250330T010000
END:DAYLIGHT
BEGIN:STANDARD
TZOFFSETFROM:+0200
TZOFFSETTO:+0100
TZNAME:CET
DTSTART:20251026T010000
END:STANDARD
BEGIN:DAYLIGHT
TZOFFSETFROM:+0100
TZOFFSETTO:+0200
TZNAME:CEST
DTSTART:20260329T010000
END:DAYLIGHT
BEGIN:STANDARD
TZOFFSETFROM:+0200
TZOFFSETTO:+0100
TZNAME:CET
DTSTART:20261025T010000
END:STANDARD
BEGIN:DAYLIGHT
TZOFFSETFROM:+0100
TZOFFSETTO:+0200
TZNAME:CEST
DTSTART:20270328T010000
END:DAYLIGHT
BEGIN:STANDARD
TZOFFSETFROM:+0200
TZOFFSETTO:+0100
TZNAME:CET
DTSTART:20271031T010000
END:STANDARD
END:VTIMEZONE
BEGIN:VEVENT
DTSTART;TZID=Europe/Berlin:20260714T140000
DTEND;TZID=Europe/Berlin:20260714T160000
DTSTAMP:20260420T202743
CREATED:20260323T190500Z
LAST-MODIFIED:20260323T190615Z
UID:565-1784037600-1784044800@ffbg.info
SUMMARY:Arbeitseinsatz Kleingruppe
DESCRIPTION:An jeden zweiten Mittwoch des Monats trifft sich wer Zeit und Lust hat zu einem kurzen Arbeitseinsatz im Forstbotanischen Garten am Haus des Naturparks. Absprachen über Signal oder direkt mit Hartmut Lerner: hartmut_lerner@t-online.de. Gerne auch Spaten\, Gartenschere\, Grabgabel…mitbringen. Es sind aber auch genügend Gerätschaften und Handschuhe vorhanden.
URL:https://ffbg.info/termin/arbeitseinsatz-kleingruppe-8/
CATEGORIES:Termine
END:VEVENT
END:VCALENDAR